BEGIN:VCALENDAR
VERSION:2.0
PRODID:-//269 Netwrk - ECPv6.15.20//NONSGML v1.0//EN
CALSCALE:GREGORIAN
METHOD:PUBLISH
X-WR-CALNAME:269 Netwrk
X-ORIGINAL-URL:https://269netwrk.com
X-WR-CALDESC:Events for 269 Netwrk
REFRESH-INTERVAL;VALUE=DURATION:PT1H
X-Robots-Tag:noindex
X-PUBLISHED-TTL:PT1H
BEGIN:VTIMEZONE
TZID:UTC
BEGIN:STANDARD
TZOFFSETFROM:+0000
TZOFFSETTO:+0000
TZNAME:UTC
DTSTART:20240101T000000
END:STANDARD
END:VTIMEZONE
BEGIN:VEVENT
DTSTART;TZID=UTC:20250814T170000
DTEND;TZID=UTC:20250814T200000
DTSTAMP:20260424T044958
CREATED:20250806T220213Z
LAST-MODIFIED:20250812T191849Z
UID:10000380-1755190800-1755201600@269netwrk.com
SUMMARY:Ladies Night at Cody Kresta
DESCRIPTION:An evening made just for you—full of fun\, flavor\, and fabulous finds!\n What to Expect: Delicious food Local wine Decadent desserts Sweet ice cream Make-your-own t-shirts Design-your-own trucker hats Permanent jewelry on-site\n\n Shop one-of-a-kind items from local vendors:• Sea glass + antler creations• Candles\, handmade pottery\, artisan jewelry• Hand-crafted wood items• Books + fun reading novelties• Fresh cut flowers & more!\n\nGrab your girlfriends\, sip something sweet\, and stroll through a summer evening of shopping\, creating\, and celebrating YOU.
URL:https://269netwrk.com/event/ladies-night-at-cody-kresta/
LOCATION:Cody Kresta Vineyard & Winery\, 45727 27th Street\, Mattawan\, 49071\, United States
END:VEVENT
END:VCALENDAR