BEGIN:VCALENDAR
VERSION:2.0
PRODID:-//269 Netwrk - ECPv6.15.20//NONSGML v1.0//EN
CALSCALE:GREGORIAN
METHOD:PUBLISH
X-ORIGINAL-URL:https://269netwrk.com
X-WR-CALDESC:Events for 269 Netwrk
REFRESH-INTERVAL;VALUE=DURATION:PT1H
X-Robots-Tag:noindex
X-PUBLISHED-TTL:PT1H
BEGIN:VTIMEZONE
TZID:UTC
BEGIN:STANDARD
TZOFFSETFROM:+0000
TZOFFSETTO:+0000
TZNAME:UTC
DTSTART:20240101T000000
END:STANDARD
END:VTIMEZONE
BEGIN:VTIMEZONE
TZID:America/Halifax
BEGIN:DAYLIGHT
TZOFFSETFROM:-0400
TZOFFSETTO:-0300
TZNAME:ADT
DTSTART:20240310T060000
END:DAYLIGHT
BEGIN:STANDARD
TZOFFSETFROM:-0300
TZOFFSETTO:-0400
TZNAME:AST
DTSTART:20241103T050000
END:STANDARD
BEGIN:DAYLIGHT
TZOFFSETFROM:-0400
TZOFFSETTO:-0300
TZNAME:ADT
DTSTART:20250309T060000
END:DAYLIGHT
BEGIN:STANDARD
TZOFFSETFROM:-0300
TZOFFSETTO:-0400
TZNAME:AST
DTSTART:20251102T050000
END:STANDARD
BEGIN:DAYLIGHT
TZOFFSETFROM:-0400
TZOFFSETTO:-0300
TZNAME:ADT
DTSTART:20260308T060000
END:DAYLIGHT
BEGIN:STANDARD
TZOFFSETFROM:-0300
TZOFFSETTO:-0400
TZNAME:AST
DTSTART:20261101T050000
END:STANDARD
END:VTIMEZONE
BEGIN:VEVENT
DTSTART;TZID=UTC:20250902T090000
DTEND;TZID=UTC:20250902T100000
DTSTAMP:20260422T022429
CREATED:20250815T181742Z
LAST-MODIFIED:20250815T181743Z
UID:10000381-1756803600-1756807200@269netwrk.com
SUMMARY:The Kalamazoo Business Network Coffee Connect
DESCRIPTION:Come grab a cup of coffee and connect with other Kalamazoo area business leaders. \n  \nRSVP: https://www.facebook.com/events/620704254379505
URL:https://269netwrk.com/event/the-kalamazoo-business-network-coffee-connect-2/
LOCATION:Water Street Coffee\, 245 W Centre Ave\,\, Portage\, 49024\, United States
END:VEVENT
BEGIN:VEVENT
DTSTART;TZID=America/Halifax:20250902T090000
DTEND;TZID=America/Halifax:20250902T100000
DTSTAMP:20260422T022429
CREATED:20250828T141804Z
LAST-MODIFIED:20250828T141804Z
UID:10000780-1756803600-1756807200@269netwrk.com
SUMMARY:Kalamazoo Business Network Coffee Connect
DESCRIPTION:Come enjoy a cup of coffee\, meet other business professionals\, and discuss the opportunities and challenges within the Kalamazoo marketplace.
URL:https://269netwrk.com/event/kalamazoo-business-network-coffee-connect/
LOCATION:Water Street Coffee Joint – Portage\, 245 W Centre Ave\, Portage\, MI\, 49024\, United States
END:VEVENT
END:VCALENDAR