BEGIN:VCALENDAR
VERSION:2.0
PRODID:-//269 Netwrk - ECPv6.15.20//NONSGML v1.0//EN
CALSCALE:GREGORIAN
METHOD:PUBLISH
X-WR-CALNAME:269 Netwrk
X-ORIGINAL-URL:https://269netwrk.com
X-WR-CALDESC:Events for 269 Netwrk
REFRESH-INTERVAL;VALUE=DURATION:PT1H
X-Robots-Tag:noindex
X-PUBLISHED-TTL:PT1H
BEGIN:VTIMEZONE
TZID:America/Halifax
BEGIN:DAYLIGHT
TZOFFSETFROM:-0400
TZOFFSETTO:-0300
TZNAME:ADT
DTSTART:20240310T060000
END:DAYLIGHT
BEGIN:STANDARD
TZOFFSETFROM:-0300
TZOFFSETTO:-0400
TZNAME:AST
DTSTART:20241103T050000
END:STANDARD
BEGIN:DAYLIGHT
TZOFFSETFROM:-0400
TZOFFSETTO:-0300
TZNAME:ADT
DTSTART:20250309T060000
END:DAYLIGHT
BEGIN:STANDARD
TZOFFSETFROM:-0300
TZOFFSETTO:-0400
TZNAME:AST
DTSTART:20251102T050000
END:STANDARD
BEGIN:DAYLIGHT
TZOFFSETFROM:-0400
TZOFFSETTO:-0300
TZNAME:ADT
DTSTART:20260308T060000
END:DAYLIGHT
BEGIN:STANDARD
TZOFFSETFROM:-0300
TZOFFSETTO:-0400
TZNAME:AST
DTSTART:20261101T050000
END:STANDARD
END:VTIMEZONE
BEGIN:VTIMEZONE
TZID:UTC
BEGIN:STANDARD
TZOFFSETFROM:+0000
TZOFFSETTO:+0000
TZNAME:UTC
DTSTART:20240101T000000
END:STANDARD
END:VTIMEZONE
BEGIN:VEVENT
DTSTART;TZID=America/Halifax:20250919T060000
DTEND;TZID=America/Halifax:20250919T200000
DTSTAMP:20260423T113212
CREATED:20250911T175640Z
LAST-MODIFIED:20250911T175640Z
UID:10001066-1758261600-1758312000@269netwrk.com
SUMMARY:Pitch Night
DESCRIPTION:Pitch your project\, idea\, or business for funding and resources. Five finalists are selected to compete for $10\,000 in equity-free capital! \nEvery other month\, on the first Friday\, five (5) Southwest Michigan-based businesses will pitch live to three (3) judges for $10\,000 equity-free capital\, partnership\, customers\, and free resources to start or grow their idea. Attendees can engage and vote for their favorite pitch\, The People’s Favorite walks away with $1\,000. \nRegister to RSVP\, bring a friend\, vote\, and support your local entrepreneurs!
URL:https://269netwrk.com/event/pitch-night/
LOCATION:Kalamazoo Institute of Art\, 314 South Park Street\, Kalamazoo\, MI\, 49007\, United States
END:VEVENT
BEGIN:VEVENT
DTSTART;TZID=UTC:20250919T071500
DTEND;TZID=UTC:20250919T093000
DTSTAMP:20260423T113212
CREATED:20250805T224849Z
LAST-MODIFIED:20250815T175344Z
UID:10000379-1758266100-1758274200@269netwrk.com
SUMMARY:Kalamazoo Leadership Breakfast with Michael Wozniak
DESCRIPTION:Presented by Christian Business Round Table \n\nJoin us for breakfast\, meaningful networking\, and a dynamic discussion with Business Leadership Coach Michael Wozniak. Registration and hospitality open at 7:15 AM. Tickets available now! \n \nAbout Michael Wozniak\nMichael is a trusted coach to business owners and leaders\, helping them unlock leadership potential at every level. His coaching centers on relational intelligence—focusing on communication\, culture\, alignment\, and execution to drive relationships\, performance and profit. \nHe has a rich background that includes working with the NBA during the iconic 1992 Dream Team and launching their business in Japan. He also co-founded KidsGames\, which grew into a global movement across 150+ countries\, and has owned multiple businesses. \nMichael is the author of Employee Drift\, a must for leaders who want to engage their teams with purpose\, clarity\, and trust. He believes that when employees feel truly supported\, they don’t just work for you—they work with you. The book reached bestseller status in new releases across multiple categories. \nMichael lives in Grand Rapids\, MI\, with his wife of 32 years\, Beth. \n\nRSVP: https://secure.qgiv.com/for/leadershipbreakfastevents/event/lbk-6c/
URL:https://269netwrk.com/event/kalamazoo-leadership-breakfast-with-michael-wozniak/
LOCATION:Kalamazoo Country Club 1609 Whites Rd Kalamazoo\, Michigan 49008\, 1609 Whites Rd\, Kalamazoo\, MI\, 49008\, United States
ORGANIZER;CN="Christian Business Round Table":MAILTO:info@thebusinessrt.org
END:VEVENT
BEGIN:VEVENT
DTSTART;TZID=UTC:20250919T130000
DTEND;TZID=UTC:20250919T170000
DTSTAMP:20260423T113212
CREATED:20250815T190413Z
LAST-MODIFIED:20250815T190413Z
UID:10000514-1758286800-1758301200@269netwrk.com
SUMMARY:Southwest Michigan Entrepreneurship Summit 2025
DESCRIPTION:Join us September 19th at the Kalamazoo Institute of Art for the Southwest Michigan Entrepreneurship Summit—a day dedicated to sparking innovation\, forging connections\, and empowering the future of entrepreneurship in our region. \nJoin us from 1-5 p.m. to fuel the growth of our community and support the next wave of leaders. Keynote speaker\, MoviePass founder\, and Author of “Black Founder\,” Stacy Spikes. \nWhether you’re a current founder\, investor\, aspiring entrepreneur\, or someone with a passion for growth\, this summit is your opportunity to: \n🔹 Connect with like-minded individuals🔹 Learn from the founders of Movie Pass\, Farmish\, Vetr Health\, Glid\, and more🔹 Discover the latest trends and opportunities in the entrepreneurial ecosystem \nRSVP: https://www.eventbrite.com/e/southwest-michigan-entrepreneurship-summit-2025-tickets-1564029457209?aff=ebemoffollowpublishemail&ref=eemail&utm_campaign=following_published_event&utm_content=follow_notification&utm_medium=email&utm_source=eventbrite \nStartup Zoo: https://startupzoo.org/
URL:https://269netwrk.com/event/southwest-michigan-entrepreneurship-summit-2025/
LOCATION:Kalamazoo Institute of Art\, 314 South Park Street\, Kalamazoo\, MI\, 49007\, United States
END:VEVENT
BEGIN:VEVENT
DTSTART;TZID=America/Halifax:20250919T130000
DTEND;TZID=America/Halifax:20250919T170000
DTSTAMP:20260423T113212
CREATED:20250911T210208Z
LAST-MODIFIED:20250911T210208Z
UID:10001067-1758286800-1758301200@269netwrk.com
SUMMARY:269FEST - Entrepreneurial Summit
DESCRIPTION:Join us September 19th at the Kalamazoo Institute of Art for the Southwest Michigan Entrepreneurship Summit—a day dedicated to sparking innovation\, forging connections\, and empowering the future of entrepreneurship in our region. \nJoin us from 1-5 p.m. to fuel the growth of our community and support the next wave of leaders. Keynote speaker\, MoviePass founder\, and Author of “Black Founder\,” Stacy Spikes. \nWhether you’re a current founder\, investor\, aspiring entrepreneur\, or someone with a passion for growth\, this summit is your opportunity to: \n🔹 Connect with like-minded individuals🔹 Learn from the founders of Movie Pass\, Farmish\, Vetr Health\, Glid\, and more🔹 Discover the latest trends and opportunities in the entrepreneurial ecosystem
URL:https://269netwrk.com/event/269fest-entrepreneurial-summit/
LOCATION:Kalamazoo Institute of the Arts\, 314 S Park St\, Kalamazoo\, MI\, 49007\, United States
END:VEVENT
END:VCALENDAR