BEGIN:VCALENDAR
VERSION:2.0
PRODID:-//269 Netwrk - ECPv6.15.20//NONSGML v1.0//EN
CALSCALE:GREGORIAN
METHOD:PUBLISH
X-ORIGINAL-URL:https://269netwrk.com
X-WR-CALDESC:Events for 269 Netwrk
REFRESH-INTERVAL;VALUE=DURATION:PT1H
X-Robots-Tag:noindex
X-PUBLISHED-TTL:PT1H
BEGIN:VTIMEZONE
TZID:America/Halifax
BEGIN:DAYLIGHT
TZOFFSETFROM:-0400
TZOFFSETTO:-0300
TZNAME:ADT
DTSTART:20240310T060000
END:DAYLIGHT
BEGIN:STANDARD
TZOFFSETFROM:-0300
TZOFFSETTO:-0400
TZNAME:AST
DTSTART:20241103T050000
END:STANDARD
BEGIN:DAYLIGHT
TZOFFSETFROM:-0400
TZOFFSETTO:-0300
TZNAME:ADT
DTSTART:20250309T060000
END:DAYLIGHT
BEGIN:STANDARD
TZOFFSETFROM:-0300
TZOFFSETTO:-0400
TZNAME:AST
DTSTART:20251102T050000
END:STANDARD
BEGIN:DAYLIGHT
TZOFFSETFROM:-0400
TZOFFSETTO:-0300
TZNAME:ADT
DTSTART:20260308T060000
END:DAYLIGHT
BEGIN:STANDARD
TZOFFSETFROM:-0300
TZOFFSETTO:-0400
TZNAME:AST
DTSTART:20261101T050000
END:STANDARD
END:VTIMEZONE
BEGIN:VEVENT
DTSTART;TZID=America/Halifax:20250924T140000
DTEND;TZID=America/Halifax:20250924T170000
DTSTAMP:20260422T021033
CREATED:20250825T150857Z
LAST-MODIFIED:20250825T150857Z
UID:10000778-1758722400-1758733200@269netwrk.com
SUMMARY:Oddlympics
DESCRIPTION:With a wide array of wacky games\, the Oddlympics\, hosted by Rotary Club of Kalamazoo\, is a perfect gathering for company or organization team building and networking with fellow community supporters. Participants will play a series of team-building style games designed for four players each\, and each entry includes a beverage and a meal. \nAll proceeds raised will benefit Kalamazoo Friends of Recreation! Register to participate or become a sponsor at https://oddlympics.com/.
URL:https://269netwrk.com/event/oddlympics/
LOCATION:Homer Stryker Field\, 251 Mills St.\, Kalamazoo\, MI\, 49048\, United States
ORGANIZER;CN="Kalamazoo Rotary Satellite Club":MAILTO:rob@doverbirch.com
END:VEVENT
BEGIN:VEVENT
DTSTART;TZID=America/Halifax:20250924T170000
DTEND;TZID=America/Halifax:20250924T190000
DTSTAMP:20260422T021033
CREATED:20250910T135908Z
LAST-MODIFIED:20250910T140654Z
UID:10001049-1758733200-1758740400@269netwrk.com
SUMMARY:Lakeshore Networking
DESCRIPTION:Join us for an exciting opportunity to connect with fellow business professionals in the area! Bring your business cards\, invite a friend\, and expand your network. \nA suggested contribution of $5 is appreciated to help cover administration and marketing costs. Simply drop your contribution in the event jar. \nRSVP Here: Click to Register \n\n\n\n\n Bonus: Include your business card\, and we’ll promote your business on our social media!\n\n\n\nFacebook: https://www.facebook.com/share/16kKGxbZnW\nInstagram: https://www.instagram.com/hollandhomesteadllc
URL:https://269netwrk.com/event/lakeshore-networking/
LOCATION:Holland Homestead\, 624 Lugers Rd\, Holland\, MI\, 49423\, United States
ORGANIZER;CN="Lakeshore Networking":MAILTO:lakeshorenetworking2021@gmail.com
END:VEVENT
END:VCALENDAR