BEGIN:VCALENDAR
VERSION:2.0
PRODID:-//269 Netwrk - ECPv6.15.20//NONSGML v1.0//EN
CALSCALE:GREGORIAN
METHOD:PUBLISH
X-WR-CALNAME:269 Netwrk
X-ORIGINAL-URL:https://269netwrk.com
X-WR-CALDESC:Events for 269 Netwrk
REFRESH-INTERVAL;VALUE=DURATION:PT1H
X-Robots-Tag:noindex
X-PUBLISHED-TTL:PT1H
BEGIN:VTIMEZONE
TZID:America/Halifax
BEGIN:DAYLIGHT
TZOFFSETFROM:-0400
TZOFFSETTO:-0300
TZNAME:ADT
DTSTART:20240310T060000
END:DAYLIGHT
BEGIN:STANDARD
TZOFFSETFROM:-0300
TZOFFSETTO:-0400
TZNAME:AST
DTSTART:20241103T050000
END:STANDARD
BEGIN:DAYLIGHT
TZOFFSETFROM:-0400
TZOFFSETTO:-0300
TZNAME:ADT
DTSTART:20250309T060000
END:DAYLIGHT
BEGIN:STANDARD
TZOFFSETFROM:-0300
TZOFFSETTO:-0400
TZNAME:AST
DTSTART:20251102T050000
END:STANDARD
BEGIN:DAYLIGHT
TZOFFSETFROM:-0400
TZOFFSETTO:-0300
TZNAME:ADT
DTSTART:20260308T060000
END:DAYLIGHT
BEGIN:STANDARD
TZOFFSETFROM:-0300
TZOFFSETTO:-0400
TZNAME:AST
DTSTART:20261101T050000
END:STANDARD
END:VTIMEZONE
BEGIN:VEVENT
DTSTART;TZID=America/Halifax:20250925T084500
DTEND;TZID=America/Halifax:20250925T221500
DTSTAMP:20260422T033724
CREATED:20250828T173816Z
LAST-MODIFIED:20250828T173816Z
UID:10000784-1758789900-1758838500@269netwrk.com
SUMMARY:Rising Tides Kzoo
DESCRIPTION:The goal of our meetings is to build lasting friendships\, see how we can help each other\, and refer business to one another.
URL:https://269netwrk.com/event/rising-tides-kzoo/2025-09-25/
LOCATION:24208 Front Street Suite A\, 24208 Front Street Suite A\, Mattawan\, MI\, 49071\, United States
ORGANIZER;CN="Rising Tides Kzoo":MAILTO:dawn@stoneycreeksocialmedia.com
END:VEVENT
BEGIN:VEVENT
DTSTART;TZID=America/Halifax:20250925T150000
DTEND;TZID=America/Halifax:20250925T170000
DTSTAMP:20260422T033724
CREATED:20250822T194847Z
LAST-MODIFIED:20250822T194847Z
UID:10000776-1758812400-1758819600@269netwrk.com
SUMMARY:FREE End of Summer Party: Join us at House Rules September 25!
DESCRIPTION:We’re back from summer break and ready to reunite! Join us for food\, drinks\, and a fun night of networking with your industry friends. We’ll be gearing up for the 2025-2026 program year with A/E/C marketing and business development professionals across West Michigan!  \nYou do not need to be a member to attend! ONE FREE SMPS MEMBERSHIP will be raffled off for this upcoming year to non-members. This event will be a fantastic opportunity to kick off the season\, network\, learn about our committees\, and discover the exciting programs coming up with the SMPS West Michigan Chapter.  \nWith over 600 games\, the House Rules Board Game Lounge is the perfect atmosphere to hang out and get to know your chapter. We can’t wait to see you there! \n.       
URL:https://269netwrk.com/event/free-end-of-summer-party-join-us-at-house-rules-september-25/
LOCATION:House Rules Games Lounge\, 404 Ionia Ave SW\, Grand Rapids\, MI\, 49503\, United States
ORGANIZER;CN="SMPS":MAILTO:info@smpswm.org
END:VEVENT
BEGIN:VEVENT
DTSTART;TZID=America/Halifax:20250925T160000
DTEND;TZID=America/Halifax:20250925T183000
DTSTAMP:20260422T033724
CREATED:20250910T142920Z
LAST-MODIFIED:20250910T143441Z
UID:10001050-1758816000-1758825000@269netwrk.com
SUMMARY:Gull Lake Area Business Fall Networking
DESCRIPTION:COME \, Connect.. with others in the Gull Lake area along with any of our friends \, businesses that would like to join us from the surrounding areas!!!! Grab a drink\, as Compass and Cleaver \, this phenomenal local family restaurant owned by Paul Dykstra over looking beautiful Gull Lake and also meet Holly Oswalt who has started a young professionals group here in Richland!!! Look forward to connecting.. Open House style from 4:00 – 6:30
URL:https://269netwrk.com/event/gull-lake-area-business-fall-networking/
LOCATION:Compass & Cleaver\, 12454 E D Ave\, Richland\, MI\, 49083\, United States
ORGANIZER;CN="Gull Lake Area Business Networking":MAILTO:smclaughlin@bestversionmedia.com
END:VEVENT
BEGIN:VEVENT
DTSTART;TZID=America/Halifax:20250925T170000
DTEND;TZID=America/Halifax:20250925T200000
DTSTAMP:20260422T033724
CREATED:20250911T210608Z
LAST-MODIFIED:20250917T193932Z
UID:10001068-1758819600-1758830400@269netwrk.com
SUMMARY:Pints & People - LINK x 269 fest
DESCRIPTION:We’re bringing Kalamazoo’s future together by connecting young professionals to the heart of the community. Whether it’s networking with like-minded peers\, discovering new opportunities\, or volunteering to make a difference\, we exist to link you to the big things that are happening in our small town. Our events are where connections spark—linking young professionals across industries and backgrounds through laid-back vibes and meaningful conversations. From new friendships to unexpected career moves\, big things happen when people come together.
URL:https://269netwrk.com/event/link-sept-networking-night/
LOCATION:Haymarket Plaza\, 139 N Edwards St\, Kalamazoo\, MI\, 49007\, United States
ORGANIZER;CN="%F0%9F%94%97 LINK":MAILTO:kyle@gulau.com
END:VEVENT
END:VCALENDAR