BEGIN:VCALENDAR
VERSION:2.0
PRODID:-//269 Netwrk - ECPv6.15.20//NONSGML v1.0//EN
CALSCALE:GREGORIAN
METHOD:PUBLISH
X-WR-CALNAME:269 Netwrk
X-ORIGINAL-URL:https://269netwrk.com
X-WR-CALDESC:Events for 269 Netwrk
REFRESH-INTERVAL;VALUE=DURATION:PT1H
X-Robots-Tag:noindex
X-PUBLISHED-TTL:PT1H
BEGIN:VTIMEZONE
TZID:America/Halifax
BEGIN:DAYLIGHT
TZOFFSETFROM:-0400
TZOFFSETTO:-0300
TZNAME:ADT
DTSTART:20240310T060000
END:DAYLIGHT
BEGIN:STANDARD
TZOFFSETFROM:-0300
TZOFFSETTO:-0400
TZNAME:AST
DTSTART:20241103T050000
END:STANDARD
BEGIN:DAYLIGHT
TZOFFSETFROM:-0400
TZOFFSETTO:-0300
TZNAME:ADT
DTSTART:20250309T060000
END:DAYLIGHT
BEGIN:STANDARD
TZOFFSETFROM:-0300
TZOFFSETTO:-0400
TZNAME:AST
DTSTART:20251102T050000
END:STANDARD
BEGIN:DAYLIGHT
TZOFFSETFROM:-0400
TZOFFSETTO:-0300
TZNAME:ADT
DTSTART:20260308T060000
END:DAYLIGHT
BEGIN:STANDARD
TZOFFSETFROM:-0300
TZOFFSETTO:-0400
TZNAME:AST
DTSTART:20261101T050000
END:STANDARD
END:VTIMEZONE
BEGIN:VEVENT
DTSTART;TZID=America/Halifax:20251007T083000
DTEND;TZID=America/Halifax:20251007T100000
DTSTAMP:20260421T094416
CREATED:20251001T202944Z
LAST-MODIFIED:20251001T202944Z
UID:10001079-1759825800-1759831200@269netwrk.com
SUMMARY:Vicksburg/Schoolcraft Business Community Townhall
DESCRIPTION:Join the Southwest Michigan First Chamber for the upcoming Vicksburg/Schoolcraft Business Community Townhall! \nThis is your chance to connect with local city and community leaders\, share your insights\, and explore opportunities that shape the future of the Vicksburg/Schoolcraft area. Together\, let’s spark collaboration and work toward meaningful progress for our community. \nBring your ideas\, your challenges\, and your neighbors—we’ll supply the refreshments and an open\, welcoming platform for discussion. \nWe look forward to seeing you there! \nAbout the Southwest Michigan First Chamber \nThe Southwest Michigan First Chamber is dedicated to fostering the connection\, development\, collaboration\, and growth of the small business community and its leaders throughout greater Kalamazoo County. The Chamber supports the mission of Southwest Michigan First not only in its support of the creation of well-paying jobs\, but also through the strengthening of our existing small business community. A strong small business presence is a proven key attractor for new businesses and a reason why families\, existing companies\, and their employees want to stay here. \nSpecial thanks to Sneller Snow & Grounds for sponsoring this series.
URL:https://269netwrk.com/event/vicksburg-schoolcraft-business-community-townhall/
LOCATION:Hills Development\, 108 South Main Street\, Vicksburg\, MI\, 49097\, United States
ORGANIZER;CN="Southwest Michigan First Chamber":MAILTO:jboerman@southwestmichiganfirst.com
END:VEVENT
END:VCALENDAR