BEGIN:VCALENDAR
VERSION:2.0
PRODID:-//269 Netwrk - ECPv6.15.20//NONSGML v1.0//EN
CALSCALE:GREGORIAN
METHOD:PUBLISH
X-WR-CALNAME:269 Netwrk
X-ORIGINAL-URL:https://269netwrk.com
X-WR-CALDESC:Events for 269 Netwrk
REFRESH-INTERVAL;VALUE=DURATION:PT1H
X-Robots-Tag:noindex
X-PUBLISHED-TTL:PT1H
BEGIN:VTIMEZONE
TZID:America/Halifax
BEGIN:DAYLIGHT
TZOFFSETFROM:-0400
TZOFFSETTO:-0300
TZNAME:ADT
DTSTART:20240310T060000
END:DAYLIGHT
BEGIN:STANDARD
TZOFFSETFROM:-0300
TZOFFSETTO:-0400
TZNAME:AST
DTSTART:20241103T050000
END:STANDARD
BEGIN:DAYLIGHT
TZOFFSETFROM:-0400
TZOFFSETTO:-0300
TZNAME:ADT
DTSTART:20250309T060000
END:DAYLIGHT
BEGIN:STANDARD
TZOFFSETFROM:-0300
TZOFFSETTO:-0400
TZNAME:AST
DTSTART:20251102T050000
END:STANDARD
BEGIN:DAYLIGHT
TZOFFSETFROM:-0400
TZOFFSETTO:-0300
TZNAME:ADT
DTSTART:20260308T060000
END:DAYLIGHT
BEGIN:STANDARD
TZOFFSETFROM:-0300
TZOFFSETTO:-0400
TZNAME:AST
DTSTART:20261101T050000
END:STANDARD
END:VTIMEZONE
BEGIN:VEVENT
DTSTART;TZID=America/Halifax:20251014T080000
DTEND;TZID=America/Halifax:20251014T170000
DTSTAMP:20260423T084604
CREATED:20251007T141506Z
LAST-MODIFIED:20251007T170917Z
UID:10001085-1760428800-1760461200@269netwrk.com
SUMMARY:From Goals to Growth: Mapping Your 2026 Strategy
DESCRIPTION:Gain practical strategies to sharpen your vision\, build a winning plan\, and set your business up for lasting success! \nThis installment of our Start-Up to Success series brings together some of Kalamazoo’s leading business coaches and strategic advisors to share their insights and proven strategies. \nWhether you’re looking to strengthen your foundation\, grow your team\, or simply gain fresh perspective\, this panel will give you the tools and inspiration to take the next step in your entrepreneurial journey. \nWhat to Expect:\n✅ Clarify your vision for the year ahead\n✅ Build actionable plans to support growth\n✅ Hear real-world experiences\n✅ Formulate strategies that maximize both people and processes \nWho Should Attend: \n\nStart-up and small business owners\nEntrepreneurs looking to scale\nAnyone who wants a roadmap for growth in 2026
URL:https://269netwrk.com/event/from-goals-to-growth-mapping-your-2026-strategy/
LOCATION:Omega Computer Services\, 5278 Lovers Lane\, Portage\, MI\, 49002\, United States
ORGANIZER;CN="Omega Computer Services":MAILTO:support@ocs.help
END:VEVENT
BEGIN:VEVENT
DTSTART;TZID=America/Halifax:20251014T113000
DTEND;TZID=America/Halifax:20251014T130000
DTSTAMP:20260423T084604
CREATED:20250930T194910Z
LAST-MODIFIED:20250930T194910Z
UID:10001074-1760441400-1760446800@269netwrk.com
SUMMARY:Lunch and Learn with AMA + JamLoop
DESCRIPTION:Learn how to reach local audiences with streaming TV and digital media at AMA Southwest Michigan’s “Stream Smart” lunch event!
URL:https://269netwrk.com/event/lunch-and-learn-with-ama-jamloop/
LOCATION:The Desenberg\, 251 East Michigan Avenue #Suite 108\, Kalamazoo\, MI\, 49007\, United States
ORGANIZER;CN="AMA":MAILTO:kiah@kzoom.com
END:VEVENT
BEGIN:VEVENT
DTSTART;TZID=America/Halifax:20251014T140000
DTEND;TZID=America/Halifax:20251014T153000
DTSTAMP:20260423T084604
CREATED:20251001T205829Z
LAST-MODIFIED:20251001T210014Z
UID:10001081-1760450400-1760455800@269netwrk.com
SUMMARY:Downtown Business Community Townhall
DESCRIPTION:Join the Chamber for this quarterly downtown discussion\, including a number of updates and changes as we continue building our downtown.
URL:https://269netwrk.com/event/downtown-business-community-townhall/
LOCATION:The Catalyst Center\, 180 E Water Street Suite 1000\, Kalamazoo\, MI\, 49007\, United States
ORGANIZER;CN="Southwest Michigan First Chamber":MAILTO:jboerman@southwestmichiganfirst.com
END:VEVENT
BEGIN:VEVENT
DTSTART;TZID=America/Halifax:20251014T163000
DTEND;TZID=America/Halifax:20251014T180000
DTSTAMP:20260423T084604
CREATED:20250910T145041Z
LAST-MODIFIED:20251014T194936Z
UID:10001051-1760459400-1760464800@269netwrk.com
SUMMARY:Meet & Greet Kalamazoo
DESCRIPTION:Networking with local PR & Communication Professionals\nPLUS a special mini-program: The Power of Podcasting with Richard Piet\, Livemic Communications
URL:https://269netwrk.com/event/meet-greet-kalamazoo/
LOCATION:Greenstreet Marketing & Design\, 244 E. Michigan Ave\, Kalamazoo\, MI\, 49007\, United States
ORGANIZER;CN="Public Relations Society of America":MAILTO:wmprsa@wmprsa.com
END:VEVENT
BEGIN:VEVENT
DTSTART;TZID=America/Halifax:20251014T170000
DTEND;TZID=America/Halifax:20251014T190000
DTSTAMP:20260423T084604
CREATED:20251013T165805Z
LAST-MODIFIED:20251013T170828Z
UID:10001092-1760461200-1760468400@269netwrk.com
SUMMARY:Lakeshore Networking
DESCRIPTION:Join us for an exciting opportunity to connect with fellow business professionals in the area! Bring your business cards\, invite a friend\, and expand your network. \n RSVP Here: Click to Register \nA suggested contribution of $5 is appreciated to help cover administration and marketing costs. Simply drop your contribution in the event jar.\n\n\n Bonus: Include your business card\, and we’ll promote your business on our social media!\n\nAppetizers will be provided! Cash Bar\n\nHost: Gustavo & Hannah Zamora – NeuEra Media\nFacebook: https://www.facebook.com/NeuEraM\nInstagram: https://www.instagram.com/neueram\nWebsite: https://www.neueram.com
URL:https://269netwrk.com/event/lakeshore-networking-2/
LOCATION:Casa Real\, 232 W Allegan St\, Otsego\, MI\, 49078\, United States
ORGANIZER;CN="Lakeshore Networking":MAILTO:lakeshorenetworking2021@gmail.com
END:VEVENT
END:VCALENDAR