BEGIN:VCALENDAR
VERSION:2.0
PRODID:-//269 Netwrk - ECPv6.15.20//NONSGML v1.0//EN
CALSCALE:GREGORIAN
METHOD:PUBLISH
X-WR-CALNAME:269 Netwrk
X-ORIGINAL-URL:https://269netwrk.com
X-WR-CALDESC:Events for 269 Netwrk
REFRESH-INTERVAL;VALUE=DURATION:PT1H
X-Robots-Tag:noindex
X-PUBLISHED-TTL:PT1H
BEGIN:VTIMEZONE
TZID:America/Halifax
BEGIN:DAYLIGHT
TZOFFSETFROM:-0400
TZOFFSETTO:-0300
TZNAME:ADT
DTSTART:20240310T060000
END:DAYLIGHT
BEGIN:STANDARD
TZOFFSETFROM:-0300
TZOFFSETTO:-0400
TZNAME:AST
DTSTART:20241103T050000
END:STANDARD
BEGIN:DAYLIGHT
TZOFFSETFROM:-0400
TZOFFSETTO:-0300
TZNAME:ADT
DTSTART:20250309T060000
END:DAYLIGHT
BEGIN:STANDARD
TZOFFSETFROM:-0300
TZOFFSETTO:-0400
TZNAME:AST
DTSTART:20251102T050000
END:STANDARD
BEGIN:DAYLIGHT
TZOFFSETFROM:-0400
TZOFFSETTO:-0300
TZNAME:ADT
DTSTART:20260308T060000
END:DAYLIGHT
BEGIN:STANDARD
TZOFFSETFROM:-0300
TZOFFSETTO:-0400
TZNAME:AST
DTSTART:20261101T050000
END:STANDARD
END:VTIMEZONE
BEGIN:VEVENT
DTSTART;TZID=America/Halifax:20251016T000000
DTEND;TZID=America/Halifax:20251017T000000
DTSTAMP:20260423T154700
CREATED:20250821T141434Z
LAST-MODIFIED:20251014T192335Z
UID:10001099-1760572800-1760659200@269netwrk.com
SUMMARY:Kalamazoo Marketing Exchange
DESCRIPTION:Two Days. Expert Speakers. Strategies You Can Use.\n\n\nKALAMAZOO\, MI — Calling all business owners\, marketers\, and entrepreneurs: The Kalamazoo Marketing Exchange is happening this fall\, bringing together some of the area’s top marketing minds for two days of actionable education\, hands-on insights\, and high-value networking. \nThe Exchange is designed for marketers at every stage. Day One offers beginner-friendly sessions covering the essentials\, while Day Two dives deeper into intermediate and advanced strategies\, giving you the chance to level up your marketing skills step by step. \nSnag a two-day pass to progress from the basics into advanced tactics\, or tailor your experience to your specific goals. And the best part? Every ticket supports the community\, proceeds from this event benefit First Day Shoe Fund\, providing shoes to kids in need across Kalamazoo County. \n  \n 
URL:https://269netwrk.com/event/kalamazoo-marketing-exchange/
LOCATION:MI
END:VEVENT
BEGIN:VEVENT
DTSTART;TZID=America/Halifax:20251016T084500
DTEND;TZID=America/Halifax:20251016T221500
DTSTAMP:20260423T154700
CREATED:20250828T173816Z
LAST-MODIFIED:20250828T173816Z
UID:10000787-1760604300-1760652900@269netwrk.com
SUMMARY:Rising Tides Kzoo
DESCRIPTION:The goal of our meetings is to build lasting friendships\, see how we can help each other\, and refer business to one another.
URL:https://269netwrk.com/event/rising-tides-kzoo/2025-10-16/
LOCATION:24208 Front Street Suite A\, 24208 Front Street Suite A\, Mattawan\, MI\, 49071\, United States
ORGANIZER;CN="Rising Tides Kzoo":MAILTO:dawn@stoneycreeksocialmedia.com
END:VEVENT
BEGIN:VEVENT
DTSTART;TZID=America/Halifax:20251016T093000
DTEND;TZID=America/Halifax:20251017T163000
DTSTAMP:20260423T154700
CREATED:20250926T144541Z
LAST-MODIFIED:20251014T195343Z
UID:10001072-1760607000-1760718600@269netwrk.com
SUMMARY:Kalamazoo Marketing Exchange
DESCRIPTION:Two Days. Expert Speakers. Strategies You Can Use.\n\n\nKALAMAZOO\, MI — Calling all business owners\, marketers\, and entrepreneurs: The Kalamazoo Marketing Exchange is happening this fall\, bringing together some of the area’s top marketing minds for two days of actionable education\, hands-on insights\, and high-value networking. \nThe event will take place at Advia Credit Union (6400 West Main Street\, Kalamazoo) on Thursday\, October 16\, and Friday\, October 17\, 2025. The Exchange is designed for marketers at every stage. Day One offers beginner-friendly sessions covering the essentials\, while Day Two dives deeper into intermediate and advanced strategies\, giving you the chance to level up your marketing skills step by step. \nSnag a two-day pass to progress from the basics into advanced tactics\, or tailor your experience to your specific goals. And the best part? Every ticket supports the community\, proceeds from this event benefit First Day Shoe Fund\, providing shoes to kids in need across Kalamazoo County.
URL:https://269netwrk.com/event/kalamazoo-marketing-exchange-2/
LOCATION:Advia Credit Union\, 6400 W Main St\, Kalamazoo\, MI\, 49009\, United States
ORGANIZER;CN="Slick Raven Marketing":MAILTO:Krystal@SlickRaven.com
END:VEVENT
BEGIN:VEVENT
DTSTART;TZID=America/Halifax:20251016T163000
DTEND;TZID=America/Halifax:20251016T183000
DTSTAMP:20260423T154700
CREATED:20251003T144610Z
LAST-MODIFIED:20251003T144610Z
UID:10001082-1760632200-1760639400@269netwrk.com
SUMMARY:The Black & Brown Connect Mixer
DESCRIPTION:“One who walks with the wise and successful shall be wise and successful.” – African Proverb \nThe Black & Brown Connect Mixer is the perfect opportunity to meet\, share\, and connect with folks from across the spectrum of industry\, including business and community leaders and entrepreneurs\, in a space that is built by and for us. \nNo matter what field you’re in\, you can count on engaging and relevant discussion\, leadership\, and other personal development opportunities\, hearing from community leaders and mentors\, and leaving energized. We look forward to seeing you! \nJoin us on Thursday\, October 16 at El Concilio at 2501 Millcork St in Kalamazoo\, beginning at 4:30pm. \nDuring this event\, we are lifting up conversations being held in the Latine business community. Look forward to a powerful and insightful panel discussion and an opportunity to continue building and rebuilding one of the most critical relationships we have; the relationship between Brown and Black communities here in greater Kalamazoo. \nJoin us for amazing food\, music by DJ Mel-V\, and expanding your professional and personal networks in our communities. \nWe can’t wait to see you there. \nSpecial thanks to the team at Stryker for their ongoing support of the Black & Brown Connect Mixer. \n\n\n\n\nWe encourage you to bring a colleague or friend and be part of the continued momentum behind this growing community.
URL:https://269netwrk.com/event/the-black-brown-connect-mixer/
LOCATION:El Concilio/Hispanic American Council\, 2501 Millcork Street\, Kalamazoo\, MI\, 49001\, United States
END:VEVENT
END:VCALENDAR