BEGIN:VCALENDAR
VERSION:2.0
PRODID:-//269 Netwrk - ECPv6.15.20//NONSGML v1.0//EN
CALSCALE:GREGORIAN
METHOD:PUBLISH
X-ORIGINAL-URL:https://269netwrk.com
X-WR-CALDESC:Events for 269 Netwrk
REFRESH-INTERVAL;VALUE=DURATION:PT1H
X-Robots-Tag:noindex
X-PUBLISHED-TTL:PT1H
BEGIN:VTIMEZONE
TZID:America/Halifax
BEGIN:DAYLIGHT
TZOFFSETFROM:-0400
TZOFFSETTO:-0300
TZNAME:ADT
DTSTART:20240310T060000
END:DAYLIGHT
BEGIN:STANDARD
TZOFFSETFROM:-0300
TZOFFSETTO:-0400
TZNAME:AST
DTSTART:20241103T050000
END:STANDARD
BEGIN:DAYLIGHT
TZOFFSETFROM:-0400
TZOFFSETTO:-0300
TZNAME:ADT
DTSTART:20250309T060000
END:DAYLIGHT
BEGIN:STANDARD
TZOFFSETFROM:-0300
TZOFFSETTO:-0400
TZNAME:AST
DTSTART:20251102T050000
END:STANDARD
BEGIN:DAYLIGHT
TZOFFSETFROM:-0400
TZOFFSETTO:-0300
TZNAME:ADT
DTSTART:20260308T060000
END:DAYLIGHT
BEGIN:STANDARD
TZOFFSETFROM:-0300
TZOFFSETTO:-0400
TZNAME:AST
DTSTART:20261101T050000
END:STANDARD
END:VTIMEZONE
BEGIN:VEVENT
DTSTART;TZID=America/Halifax:20251029T114500
DTEND;TZID=America/Halifax:20251029T130000
DTSTAMP:20260421T203021
CREATED:20251021T202325Z
LAST-MODIFIED:20251021T202325Z
UID:10001104-1761738300-1761742800@269netwrk.com
SUMMARY:Rotary Club of Portage Lunch & Learn
DESCRIPTION:Come join me and the Rotary Club of Portage to learn what all the ducking fun is about! We do a lot of good in our community and have even more fun while doing it! Join us for lunch at the absolutely gorgeous Portage Zhang Senior Center to learn more about what we do.
URL:https://269netwrk.com/event/rotary-club-of-portage-lunch-learn/
LOCATION:Portage Zhang Senior Center\, 203 E Centre Ave\, Portage\, MI\, 49024\, United States
END:VEVENT
END:VCALENDAR