BEGIN:VCALENDAR
VERSION:2.0
PRODID:-//269 Netwrk - ECPv6.15.20//NONSGML v1.0//EN
CALSCALE:GREGORIAN
METHOD:PUBLISH
X-ORIGINAL-URL:https://269netwrk.com
X-WR-CALDESC:Events for 269 Netwrk
REFRESH-INTERVAL;VALUE=DURATION:PT1H
X-Robots-Tag:noindex
X-PUBLISHED-TTL:PT1H
BEGIN:VTIMEZONE
TZID:America/Halifax
BEGIN:DAYLIGHT
TZOFFSETFROM:-0400
TZOFFSETTO:-0300
TZNAME:ADT
DTSTART:20240310T060000
END:DAYLIGHT
BEGIN:STANDARD
TZOFFSETFROM:-0300
TZOFFSETTO:-0400
TZNAME:AST
DTSTART:20241103T050000
END:STANDARD
BEGIN:DAYLIGHT
TZOFFSETFROM:-0400
TZOFFSETTO:-0300
TZNAME:ADT
DTSTART:20250309T060000
END:DAYLIGHT
BEGIN:STANDARD
TZOFFSETFROM:-0300
TZOFFSETTO:-0400
TZNAME:AST
DTSTART:20251102T050000
END:STANDARD
BEGIN:DAYLIGHT
TZOFFSETFROM:-0400
TZOFFSETTO:-0300
TZNAME:ADT
DTSTART:20260308T060000
END:DAYLIGHT
BEGIN:STANDARD
TZOFFSETFROM:-0300
TZOFFSETTO:-0400
TZNAME:AST
DTSTART:20261101T050000
END:STANDARD
END:VTIMEZONE
BEGIN:VEVENT
DTSTART;TZID=America/Halifax:20251030T080000
DTEND;TZID=America/Halifax:20251030T090000
DTSTAMP:20260421T134734
CREATED:20251013T145550Z
LAST-MODIFIED:20251014T194630Z
UID:10001101-1761811200-1761814800@269netwrk.com
SUMMARY:Coffee & Connections with AMA Southwest Michigan
DESCRIPTION:Welcome to Coffee & Connections with AMA Southwest Michigan\, sponsored by Jackie O Marketing! \nJoin us at Water Street Coffee Joint (Portage) on October 30\, 2025\, at 8:00 AM (Eastern Time) for a morning of networking and coffee. This is the perfect opportunity to meet fellow professionals in the area and expand your network. \nDon’t miss this chance to make meaningful connections over a cup of joe. See you there!
URL:https://269netwrk.com/event/coffee-connections-with-ama-southwest-michigan/
LOCATION:Water Street Coffee Joint (Portage)\, 245 W Centre Ave\, Portage\, MI\, 49024\, United States
ORGANIZER;CN="AMA":MAILTO:kiah@kzoom.com
END:VEVENT
BEGIN:VEVENT
DTSTART;TZID=America/Halifax:20251030T084500
DTEND;TZID=America/Halifax:20251030T221500
DTSTAMP:20260421T134734
CREATED:20250828T173816Z
LAST-MODIFIED:20250828T173816Z
UID:10000789-1761813900-1761862500@269netwrk.com
SUMMARY:Rising Tides Kzoo
DESCRIPTION:The goal of our meetings is to build lasting friendships\, see how we can help each other\, and refer business to one another.
URL:https://269netwrk.com/event/rising-tides-kzoo/2025-10-30/
LOCATION:24208 Front Street Suite A\, 24208 Front Street Suite A\, Mattawan\, MI\, 49071\, United States
ORGANIZER;CN="Rising Tides Kzoo":MAILTO:dawn@stoneycreeksocialmedia.com
END:VEVENT
END:VCALENDAR