BEGIN:VCALENDAR
VERSION:2.0
PRODID:-//269 Netwrk - ECPv6.15.20//NONSGML v1.0//EN
CALSCALE:GREGORIAN
METHOD:PUBLISH
X-ORIGINAL-URL:https://269netwrk.com
X-WR-CALDESC:Events for 269 Netwrk
REFRESH-INTERVAL;VALUE=DURATION:PT1H
X-Robots-Tag:noindex
X-PUBLISHED-TTL:PT1H
BEGIN:VTIMEZONE
TZID:America/Halifax
BEGIN:DAYLIGHT
TZOFFSETFROM:-0400
TZOFFSETTO:-0300
TZNAME:ADT
DTSTART:20240310T060000
END:DAYLIGHT
BEGIN:STANDARD
TZOFFSETFROM:-0300
TZOFFSETTO:-0400
TZNAME:AST
DTSTART:20241103T050000
END:STANDARD
BEGIN:DAYLIGHT
TZOFFSETFROM:-0400
TZOFFSETTO:-0300
TZNAME:ADT
DTSTART:20250309T060000
END:DAYLIGHT
BEGIN:STANDARD
TZOFFSETFROM:-0300
TZOFFSETTO:-0400
TZNAME:AST
DTSTART:20251102T050000
END:STANDARD
BEGIN:DAYLIGHT
TZOFFSETFROM:-0400
TZOFFSETTO:-0300
TZNAME:ADT
DTSTART:20260308T060000
END:DAYLIGHT
BEGIN:STANDARD
TZOFFSETFROM:-0300
TZOFFSETTO:-0400
TZNAME:AST
DTSTART:20261101T050000
END:STANDARD
END:VTIMEZONE
BEGIN:VTIMEZONE
TZID:UTC
BEGIN:STANDARD
TZOFFSETFROM:+0000
TZOFFSETTO:+0000
TZNAME:UTC
DTSTART:20240101T000000
END:STANDARD
END:VTIMEZONE
BEGIN:VEVENT
DTSTART;TZID=America/Halifax:20251112T073000
DTEND;TZID=America/Halifax:20251112T093000
DTSTAMP:20260421T162716
CREATED:20251014T152646Z
LAST-MODIFIED:20251106T183657Z
UID:10001095-1762932600-1762939800@269netwrk.com
SUMMARY:Profit Accelerator Morning Workshop
DESCRIPTION:An exclusive event for business owners with a complimentary breakfast at Casa Di Amici. \nWant to learn how to grow your business and increase profitability? \nJoin us for an informative\, inspirational and actionable morning workshop. \nMore details about the event HERE
URL:https://269netwrk.com/event/profit-accelerator-morning-workshop/
LOCATION:Casa Di Amici\, 773 W. Michigan Ave\, Kalamazoo\, MI\, 49007\, United States
ORGANIZER;CN="Gladstone & Associates":MAILTO:dominick@gladstoneandassociates.com
END:VEVENT
BEGIN:VEVENT
DTSTART;TZID=America/Halifax:20251112T093000
DTEND;TZID=America/Halifax:20251112T103000
DTSTAMP:20260421T162716
CREATED:20251105T182714Z
LAST-MODIFIED:20251105T194322Z
UID:10001120-1762939800-1762943400@269netwrk.com
SUMMARY:Brewing Better Connections - The Connectors Collaborative (Battle Creek)
DESCRIPTION:This is a perfect chance to meet new people\, connect with local businesses\, and support what makes our community awesome.\n\n\nIf you’ve been looking for a reason to get out\, network\, and have some fun\, this is it. Come say hi\, make a few connections\, and see what our local professionals are up to!\n\n\nHope to see some familiar faces there!\n\n\nRSVP Required
URL:https://269netwrk.com/event/brewing-better-connections-the-connectors-collaborative-battle-creek/
LOCATION:Battle Creek Area Chamber of Commerce\, 51 W Michigan Ave\, Battle Creek\, MI\, 49017\, United States
ORGANIZER;CN="The Connectors Collaborative":MAILTO:connect@eleve.events
END:VEVENT
BEGIN:VEVENT
DTSTART;TZID=America/Halifax:20251112T120000
DTEND;TZID=America/Halifax:20251112T130000
DTSTAMP:20260421T162716
CREATED:20251105T201559Z
LAST-MODIFIED:20251105T201559Z
UID:10001121-1762948800-1762952400@269netwrk.com
SUMMARY:Uproot Market & Eatery Ribbon Cutting
DESCRIPTION:Join us on Wednesday\, November 12\, 2025\, at noon as we celebrate the official ribbon cutting for Uproot Market & Eatery\, located at 119 West Michigan Avenue in downtown Battle Creek!\nThis exciting day will feature a variety of activities throughout the day\, including local vendors\, free samples\, and fun prizes. Come explore Uproot’s fresh and flavorful offerings\, meet the team behind this vibrant new addition to the community\, and enjoy a taste of what makes Battle Creek thrive.\nDon’t miss this opportunity to celebrate local business growth\, great food\, and good company — we’ll see you there!
URL:https://269netwrk.com/event/uproot-market-eatery-ribbon-cutting/
LOCATION:Uproot Market & Eatery\, 119 West Michigan Avenue\, Battle Creek\, MI\, 49007\, United States
END:VEVENT
BEGIN:VEVENT
DTSTART;TZID=America/Halifax:20251112T160000
DTEND;TZID=America/Halifax:20251112T190000
DTSTAMP:20260421T162716
CREATED:20251028T194126Z
LAST-MODIFIED:20251028T194126Z
UID:10001108-1762963200-1762974000@269netwrk.com
SUMMARY:Barrels\, Bottles & Brews - SWMI In Person November Networking
DESCRIPTION:Our Agenda is simple:\n1 – Meet people and business owners without all the formality2 – Have a Beer (or other beverage)3 – REPEAT\nA casual networking group about getting connected in the community and supporting locally owned breweries\, tap houses\, and other establishments. Come enjoy the camaraderie and hang out or just enjoy good craft beer\, cocktail or glass of wine.\nRSVP on Facebook Requested – Out of respect to the businesses we visit we need to know how many people are planning to attend.\nSponsored by: Kevin Whiteford – Whiteford Wealth Management\, INCFacebook: https://www.facebook.com/share/1CvN4EHQbbWebsite: https://www.whitefordwealth.com
URL:https://269netwrk.com/event/barrels-bottles-brews-swmi-in-person-november-networking/
LOCATION:The Brick House\, 190 Territorial Rd\, Benton Harbor\, MI\, 49022\, United States
END:VEVENT
BEGIN:VEVENT
DTSTART;TZID=America/Halifax:20251112T180000
DTEND;TZID=America/Halifax:20251112T190000
DTSTAMP:20260421T162716
CREATED:20251017T195714Z
LAST-MODIFIED:20251126T180255Z
UID:10001102-1762970400-1762974000@269netwrk.com
SUMMARY:Guys Who Give - Q4 Impact Event
DESCRIPTION:Join us for our Q4 Impact Event! We’ll meet at the Monroe Executive Suite inside Revel & Roll West on Stadium Drive. Doors open at 5 PM\, event starts at 6 PM and you’re out by 7PM. Bring a buddy and let’s keep building momentum!\n \nThe GWG Event Process:\nATTEND:\nAll events are kept to one hour\, max. Come with a positive attitude and a BLANK check for $100 or be ready to give online via our secure donation portal. Prepare to meet great new people and support the deserving local nonprofit we select.\nNOMINATE (Optional):\nMembers are encouraged to submit a local organization (501c3 that serves Kalamazoo County required) that needs support. We’ll draw three and if your nomination is pulled\, you’ll be given up to 5 minutes to casually present to the group why you selected them to receive our support. Only 3 charities are drawn to “present” at each meeting and no presentation materials are allowed.\nVOTE:\nMembers will vote to select one of the presented organizations to receive the full donation for that quarter’s effort.\nGIVE:\nWe’ll all write a $100 check directly to the chosen nonprofit or contribute $100 online via the GWG giving portal (so you’ll have a tax receipt). Checks will be collected at the close of the meeting.\nOBSERVE IMPACT:\nWhen we come together as a group of inspired men for 60 minutes\, we can make real\, positive\, and immediate impact in our community.
URL:https://269netwrk.com/event/q4-impact-event-guys-who-give/
LOCATION:Revel & Roll West\, 4500 Stadium Dr\, Kalamazoo\, MI\, 49008\, United States
ORGANIZER;CN="Guys Who Give":MAILTO:kalamazoo@guyswhogive.org
END:VEVENT
BEGIN:VEVENT
DTSTART;TZID=UTC:20251112T180000
DTEND;TZID=UTC:20251112T220000
DTSTAMP:20260421T162716
CREATED:20250808T220845Z
LAST-MODIFIED:20250808T222212Z
UID:10000447-1762970400-1762984800@269netwrk.com
SUMMARY:B.E.T.A. Graduation
DESCRIPTION:More details and Eventbrite site coming soon.
URL:https://269netwrk.com/event/b-e-t-a-graduation/
LOCATION:Advia
ORGANIZER;CN="Sisters In Business":MAILTO:SISTERSINBUSINESSMI@GMAIL.COM
END:VEVENT
END:VCALENDAR