BEGIN:VCALENDAR
VERSION:2.0
PRODID:-//269 Netwrk - ECPv6.15.20//NONSGML v1.0//EN
CALSCALE:GREGORIAN
METHOD:PUBLISH
X-WR-CALNAME:269 Netwrk
X-ORIGINAL-URL:https://269netwrk.com
X-WR-CALDESC:Events for 269 Netwrk
REFRESH-INTERVAL;VALUE=DURATION:PT1H
X-Robots-Tag:noindex
X-PUBLISHED-TTL:PT1H
BEGIN:VTIMEZONE
TZID:America/Halifax
BEGIN:DAYLIGHT
TZOFFSETFROM:-0400
TZOFFSETTO:-0300
TZNAME:ADT
DTSTART:20250309T060000
END:DAYLIGHT
BEGIN:STANDARD
TZOFFSETFROM:-0300
TZOFFSETTO:-0400
TZNAME:AST
DTSTART:20251102T050000
END:STANDARD
BEGIN:DAYLIGHT
TZOFFSETFROM:-0400
TZOFFSETTO:-0300
TZNAME:ADT
DTSTART:20260308T060000
END:DAYLIGHT
BEGIN:STANDARD
TZOFFSETFROM:-0300
TZOFFSETTO:-0400
TZNAME:AST
DTSTART:20261101T050000
END:STANDARD
BEGIN:DAYLIGHT
TZOFFSETFROM:-0400
TZOFFSETTO:-0300
TZNAME:ADT
DTSTART:20270314T060000
END:DAYLIGHT
BEGIN:STANDARD
TZOFFSETFROM:-0300
TZOFFSETTO:-0400
TZNAME:AST
DTSTART:20271107T050000
END:STANDARD
END:VTIMEZONE
BEGIN:VEVENT
DTSTART;TZID=America/Halifax:20260421T120000
DTEND;TZID=America/Halifax:20260421T170000
DTSTAMP:20260421T022153
CREATED:20260129T144649Z
LAST-MODIFIED:20260129T144649Z
UID:10002461-1776772800-1776790800@269netwrk.com
SUMMARY:AMA Marketing Forward Conference
DESCRIPTION:In an industry defined by constant evolution\, marketers need fresh ideas\, actionable insights\, and meaningful connections to stay ahead. Join the Southwest Michigan American Marketing Association on Tuesday\, April 21\, 2026 in Kalamazoo for our premier annual conference\, an exclusive gathering designed to elevate your thinking and strengthen your strategy. \nThis year’s event will bring together marketing leaders\, innovators\, and local professionals for a day of learning\, inspiration\, and collaboration. Through expert-led sessions\, real-world case studies\, and interactive discussions\, you’ll explore the trends and tools shaping the future of marketing. \nWhether you’re focused on brand growth\, digital strategy\, analytics\, creative storytelling\, or emerging technologies\, you’ll leave equipped with practical takeaways you can apply immediately. \nDon’t miss Southwest Michigan’s must-attend marketing event of 2026\, where ideas spark\, connections grow\, and the next era of marketing comes into focus.
URL:https://269netwrk.com/event/ama-marketing-forward-conference/
LOCATION:John E. Fetzer Center\, 2251 Business Court\, Kalamazoo\, MI\, 49008\, United States
ORGANIZER;CN="AMA":MAILTO:kiah@kzoom.com
END:VEVENT
END:VCALENDAR