BEGIN:VCALENDAR
VERSION:2.0
PRODID:-//269 Netwrk - ECPv6.15.20//NONSGML v1.0//EN
CALSCALE:GREGORIAN
METHOD:PUBLISH
X-ORIGINAL-URL:https://269netwrk.com
X-WR-CALDESC:Events for 269 Netwrk
REFRESH-INTERVAL;VALUE=DURATION:PT1H
X-Robots-Tag:noindex
X-PUBLISHED-TTL:PT1H
BEGIN:VTIMEZONE
TZID:UTC
BEGIN:STANDARD
TZOFFSETFROM:+0000
TZOFFSETTO:+0000
TZNAME:UTC
DTSTART:20240101T000000
END:STANDARD
END:VTIMEZONE
BEGIN:VEVENT
DTSTART;TZID=UTC:20250819T073000
DTEND;TZID=UTC:20250819T090000
DTSTAMP:20260424T045843
CREATED:20250804T194644Z
LAST-MODIFIED:20250815T175932Z
UID:10000317-1755588600-1755594000@269netwrk.com
SUMMARY:Rise & Thrive Coffee Connect
DESCRIPTION:It’s time to Rise & Thrive! \nWe know schedules can be packed with work\, family\, and other commitments. If evening events don’t fit your routine\, Rise & Thrive Coffee Connect is the perfect way to start your day with great conversations and community insights. \nJoin us this month on Tuesday\, August 19\, at Community Homeworks to hear from our local community partner about their impactful work in the region. Learn how they support health\, wellness\, and community engagement and explore ways to get involved. Space is limited\, so RSVP now.* \nThe Rise & Thrive Coffee Connect series is sponsored by Honor Credit Union. Together\, we hope this series stokes pride in where we all live\, work\, and play\, making us all ambassadors of Southwest Michigan. Thank you for helping us build a more connected and informed business community. \n*Because of the limited space and demand for this event\, you must be registered to attend. If you are registered and can no longer attend\, PLEASE cancel your reservation with Eventbrite so that those on the waitlist can attend. \nRSVP: https://www.eventbrite.com/e/rise-thrive-coffee-connect-tickets-1303381622519?aff=oddtdtcreator
URL:https://269netwrk.com/event/rise-thrive-coffee-connect/
LOCATION:Community Homeworks\, 810 Bryant St\, Kalamazoo\, MI\, 49001\, United States
ORGANIZER;CN="Southwest Michigan First Chamber":MAILTO:jboerman@southwestmichiganfirst.com
END:VEVENT
BEGIN:VEVENT
DTSTART;TZID=UTC:20250820T160000
DTEND;TZID=UTC:20250820T163000
DTSTAMP:20260424T045843
CREATED:20250815T235833Z
LAST-MODIFIED:20250815T235833Z
UID:10000516-1755705600-1755707400@269netwrk.com
SUMMARY:Ribbon Cutting | Horizon Bank Downtown Kalamazoo
DESCRIPTION:
URL:https://269netwrk.com/event/ribbon-cutting-horizon-bank-downtown-kalamazoo/
LOCATION:Horizon Bank\, 151 E. Michigan Ave\, Kalamazoo\, MI\, 49007\, United States
ORGANIZER;CN="Southwest Michigan First Chamber":MAILTO:jboerman@southwestmichiganfirst.com
END:VEVENT
BEGIN:VEVENT
DTSTART;TZID=UTC:20250820T160000
DTEND;TZID=UTC:20250820T190000
DTSTAMP:20260424T045843
CREATED:20250819T231245Z
LAST-MODIFIED:20250820T005120Z
UID:10000773-1755705600-1755716400@269netwrk.com
SUMMARY:Barrels\, Bottles\, & Brews - Kalamazoo
DESCRIPTION:Casual networking at it’s finest!
URL:https://269netwrk.com/event/august-barrels-bottles-brews/
LOCATION:Alibi – Breakfast\, Lunch\, Dinner\, Bar and Catering\, 153 W Centre Ave\, Portage\, MI\, 49024\, United States
END:VEVENT
BEGIN:VEVENT
DTSTART;TZID=UTC:20250820T170000
DTEND;TZID=UTC:20250820T183000
DTSTAMP:20260424T045843
CREATED:20250808T182352Z
LAST-MODIFIED:20250808T182352Z
UID:10000443-1755709200-1755714600@269netwrk.com
SUMMARY:Women Who Care Quarterly Meeting
DESCRIPTION:Join us for the quarterly meeting of Women Who Care of Kalamazoo County. We are 100+ women who give to a 501(c)3 charity\, based on nomination presentations from our members\, and a collective vote.\nDoors open at 5\, we will start promptly at 5:30.
URL:https://269netwrk.com/event/women-who-care-quarterly-meeting/
LOCATION:Revel & Roll West\, 4500 Stadium Dr\, Kalamazoo\, MI\, 49008\, United States
ORGANIZER;CN="Women Who Care of Kalamazoo County":MAILTO:womenwhocare.kalamazoo@gmail.com
END:VEVENT
BEGIN:VEVENT
DTSTART;TZID=UTC:20250821T150000
DTEND;TZID=UTC:20250821T153000
DTSTAMP:20260424T045843
CREATED:20250816T000246Z
LAST-MODIFIED:20250816T000246Z
UID:10000517-1755788400-1755790200@269netwrk.com
SUMMARY:Ribbon Cutting | Championship Martial Arts
DESCRIPTION:
URL:https://269netwrk.com/event/ribbon-cutting-championship-martial-arts/
LOCATION:Championship Martial Arts\, 6784 S. Westnedge Ave\, Kalamazoo\, MI\, 49002\, United States
ORGANIZER;CN="Southwest Michigan First Chamber":MAILTO:jboerman@southwestmichiganfirst.com
END:VEVENT
BEGIN:VEVENT
DTSTART;TZID=UTC:20250821T170000
DTEND;TZID=UTC:20250821T200000
DTSTAMP:20260424T045843
CREATED:20250815T004602Z
LAST-MODIFIED:20250819T010313Z
UID:10000453-1755795600-1755806400@269netwrk.com
SUMMARY:🔗 LINK August Mixer
DESCRIPTION:Poetry? Live Music? Cocktails? \nThat’s a summer night done right. \nJoin us Thursday\, 8/21 from 5-8pm at Green Door for a chill evening with local performers\, food trucks\, and space to connect. \nRSVP here \ninsta | linkedin
URL:https://269netwrk.com/event/%f0%9f%94%97-link-august-mixer/
LOCATION:Green Door Distilling\, 429 E. North St\, Kalamazoo\, MI\, 49007\, United States
ORGANIZER;CN="%F0%9F%94%97 LINK":MAILTO:kyle@gulau.com
END:VEVENT
BEGIN:VEVENT
DTSTART;TZID=UTC:20250822T120000
DTEND;TZID=UTC:20250822T140000
DTSTAMP:20260424T045843
CREATED:20250809T002521Z
LAST-MODIFIED:20250809T003325Z
UID:10000450-1755864000-1755871200@269netwrk.com
SUMMARY:Women's Equality Day Luncheon 2025
DESCRIPTION:Enjoy lunch and a keynote presentation by renowned civil rights leader and best-selling author Valarie Kaur! \n  \nhttps://www.facebook.com/events/1195526098132659
URL:https://269netwrk.com/event/womens-equality-day-luncheon-2025/
LOCATION:Delta Hotels Kalamazoo Conference Center\, 2747 S 11th St\,\, MI\, Kalamazoo\, MI\, 49009\, United States
ORGANIZER;CN="YWCA Kalamazoo":MAILTO:info@ywcakalamazoo.org
END:VEVENT
BEGIN:VEVENT
DTSTART;TZID=UTC:20250823T120000
DTEND;TZID=UTC:20250823T150000
DTSTAMP:20260424T045843
CREATED:20250808T202155Z
LAST-MODIFIED:20250808T202335Z
UID:10000445-1755950400-1755961200@269netwrk.com
SUMMARY:BETA DEMO DAY: Founders Pitch Competition
DESCRIPTION:Celebrate 5 years of BETA! Live pitches\, networking\, vendors & more. Free & open to the public. RSVP to support local founders!
URL:https://269netwrk.com/event/beta-demo-day-founders-pitch-competition/
LOCATION:John E. Fetzer Center\, 2251 Business Court\, Kalamazoo\, MI\, 49008\, United States
ORGANIZER;CN="Sisters In Business":MAILTO:SISTERSINBUSINESSMI@GMAIL.COM
END:VEVENT
END:VCALENDAR