BEGIN:VCALENDAR
VERSION:2.0
PRODID:-//269 Netwrk - ECPv6.15.20//NONSGML v1.0//EN
CALSCALE:GREGORIAN
METHOD:PUBLISH
X-WR-CALNAME:269 Netwrk
X-ORIGINAL-URL:https://269netwrk.com
X-WR-CALDESC:Events for 269 Netwrk
REFRESH-INTERVAL;VALUE=DURATION:PT1H
X-Robots-Tag:noindex
X-PUBLISHED-TTL:PT1H
BEGIN:VTIMEZONE
TZID:UTC
BEGIN:STANDARD
TZOFFSETFROM:+0000
TZOFFSETTO:+0000
TZNAME:UTC
DTSTART:20240101T000000
END:STANDARD
END:VTIMEZONE
BEGIN:VTIMEZONE
TZID:America/Halifax
BEGIN:DAYLIGHT
TZOFFSETFROM:-0400
TZOFFSETTO:-0300
TZNAME:ADT
DTSTART:20240310T060000
END:DAYLIGHT
BEGIN:STANDARD
TZOFFSETFROM:-0300
TZOFFSETTO:-0400
TZNAME:AST
DTSTART:20241103T050000
END:STANDARD
BEGIN:DAYLIGHT
TZOFFSETFROM:-0400
TZOFFSETTO:-0300
TZNAME:ADT
DTSTART:20250309T060000
END:DAYLIGHT
BEGIN:STANDARD
TZOFFSETFROM:-0300
TZOFFSETTO:-0400
TZNAME:AST
DTSTART:20251102T050000
END:STANDARD
BEGIN:DAYLIGHT
TZOFFSETFROM:-0400
TZOFFSETTO:-0300
TZNAME:ADT
DTSTART:20260308T060000
END:DAYLIGHT
BEGIN:STANDARD
TZOFFSETFROM:-0300
TZOFFSETTO:-0400
TZNAME:AST
DTSTART:20261101T050000
END:STANDARD
END:VTIMEZONE
BEGIN:VEVENT
DTSTART;TZID=UTC:20250902T090000
DTEND;TZID=UTC:20250902T100000
DTSTAMP:20260421T191150
CREATED:20250815T181742Z
LAST-MODIFIED:20250815T181743Z
UID:10000381-1756803600-1756807200@269netwrk.com
SUMMARY:The Kalamazoo Business Network Coffee Connect
DESCRIPTION:Come grab a cup of coffee and connect with other Kalamazoo area business leaders. \n  \nRSVP: https://www.facebook.com/events/620704254379505
URL:https://269netwrk.com/event/the-kalamazoo-business-network-coffee-connect-2/
LOCATION:Water Street Coffee\, 245 W Centre Ave\,\, Portage\, 49024\, United States
END:VEVENT
BEGIN:VEVENT
DTSTART;TZID=America/Halifax:20250902T090000
DTEND;TZID=America/Halifax:20250902T100000
DTSTAMP:20260421T191150
CREATED:20250828T141804Z
LAST-MODIFIED:20250828T141804Z
UID:10000780-1756803600-1756807200@269netwrk.com
SUMMARY:Kalamazoo Business Network Coffee Connect
DESCRIPTION:Come enjoy a cup of coffee\, meet other business professionals\, and discuss the opportunities and challenges within the Kalamazoo marketplace.
URL:https://269netwrk.com/event/kalamazoo-business-network-coffee-connect/
LOCATION:Water Street Coffee Joint – Portage\, 245 W Centre Ave\, Portage\, MI\, 49024\, United States
END:VEVENT
BEGIN:VEVENT
DTSTART;TZID=America/Halifax:20250903T080000
DTEND;TZID=America/Halifax:20250903T090000
DTSTAMP:20260421T191150
CREATED:20250829T152155Z
LAST-MODIFIED:20250902T184833Z
UID:10001042-1756886400-1756890000@269netwrk.com
SUMMARY:The Growth Exchange Networking Event
DESCRIPTION:This will be a time of networking\, brainstorming\, and vision-casting as we come together to hear details about the direction of the group and talk through some exciting events we’ll be spearheading together to help grow our businesses. \nWith fall and the holidays quickly approaching\, we’d also love for each of you to come prepared with a cool idea for a gift\, service\, or offering from your business that can be used to thank clients or spread awareness of what you do. This will be a great way for us to not only get to know each other better but also start sharing practical ways to grow together. \n If you are no longer planning to be part of the group\, or if you know you won’t be able to attend\, please let us know. That way we can either remove your spot or make sure you still get the newsletter and group updates so you stay in the loop. \nWe can’t wait to see you there as we kick off this journey!
URL:https://269netwrk.com/event/the-growth-exchange-networking-event/
LOCATION:Roxy’s\, 4010 Gull Rd\, Kalamazoo\, MI\, 49048\, United States
ORGANIZER;CN="The Growth Exchange":MAILTO:sbrownlee@fbinsmi.com
END:VEVENT
BEGIN:VEVENT
DTSTART;TZID=UTC:20250903T083000
DTEND;TZID=UTC:20250903T093000
DTSTAMP:20260421T191150
CREATED:20250816T005338Z
LAST-MODIFIED:20250819T005409Z
UID:10000648-1756888200-1756891800@269netwrk.com
SUMMARY:1 Million Cups
DESCRIPTION:1MC provides a supportive\, inclusive space for entrepreneurs and their communities to gather and connect\, where they can work through business challenges and identify opportunities. \nAs a presenter\, you can share your business dream\, success\, or current “pivot” with the community and get input from peer business owners and service providers. \nAs an audience member\, grow you network and provide support to help our entrepreneur community grow. \nApply to present your business to the community and get feedback. \nAdd this recurring event to your calendar through this KZEN link.
URL:https://269netwrk.com/event/1-million-cups/
LOCATION:WMed Innovation Center\, 4717 Campus Drive\, Kalamazoo\, MI\, 49008\, United States
ORGANIZER;CN="1 Million Cups":MAILTO:kalamazoo@1millioncups.com
END:VEVENT
BEGIN:VEVENT
DTSTART;TZID=America/Halifax:20250904T084500
DTEND;TZID=America/Halifax:20250904T221500
DTSTAMP:20260421T191150
CREATED:20250828T173816Z
LAST-MODIFIED:20250828T173816Z
UID:10000781-1756975500-1757024100@269netwrk.com
SUMMARY:Rising Tides Kzoo
DESCRIPTION:The goal of our meetings is to build lasting friendships\, see how we can help each other\, and refer business to one another.
URL:https://269netwrk.com/event/rising-tides-kzoo/2025-09-04/
LOCATION:24208 Front Street Suite A\, 24208 Front Street Suite A\, Mattawan\, MI\, 49071\, United States
ORGANIZER;CN="Rising Tides Kzoo":MAILTO:dawn@stoneycreeksocialmedia.com
END:VEVENT
BEGIN:VEVENT
DTSTART;TZID=UTC:20250905T080000
DTEND;TZID=UTC:20250905T100000
DTSTAMP:20260421T191150
CREATED:20250816T010740Z
LAST-MODIFIED:20250819T010052Z
UID:10000708-1757059200-1757066400@269netwrk.com
SUMMARY:Kalamazoo Contractors and Developers Connect (KCDC) 1st Friday Coffee
DESCRIPTION:Kalamazoo Contractors and Developers Connect (KCDC) 1st Friday Coffee is a networking event to connect local builders\, developers\, and trades people (with a focus on minority-owned businesses) with local community organizations who are there to support local businesses and help them grow. All small businesses that work in the construction/handy-person field (licensed or not) are welcome to join. \nNo registration required\, but you can learn more about KCDC here.
URL:https://269netwrk.com/event/kalamazoo-contractors-and-developers-connect-kcdc-1st-friday-coffee/
LOCATION:Kalamazoo Land Bank\, 1523 Riverview Drive\, Kalamazoo\, MI\, 49004\, United States
END:VEVENT
END:VCALENDAR