BEGIN:VCALENDAR
VERSION:2.0
PRODID:-//269 Netwrk - ECPv6.15.20//NONSGML v1.0//EN
CALSCALE:GREGORIAN
METHOD:PUBLISH
X-WR-CALNAME:269 Netwrk
X-ORIGINAL-URL:https://269netwrk.com
X-WR-CALDESC:Events for 269 Netwrk
REFRESH-INTERVAL;VALUE=DURATION:PT1H
X-Robots-Tag:noindex
X-PUBLISHED-TTL:PT1H
BEGIN:VTIMEZONE
TZID:America/Halifax
BEGIN:DAYLIGHT
TZOFFSETFROM:-0400
TZOFFSETTO:-0300
TZNAME:ADT
DTSTART:20240310T060000
END:DAYLIGHT
BEGIN:STANDARD
TZOFFSETFROM:-0300
TZOFFSETTO:-0400
TZNAME:AST
DTSTART:20241103T050000
END:STANDARD
BEGIN:DAYLIGHT
TZOFFSETFROM:-0400
TZOFFSETTO:-0300
TZNAME:ADT
DTSTART:20250309T060000
END:DAYLIGHT
BEGIN:STANDARD
TZOFFSETFROM:-0300
TZOFFSETTO:-0400
TZNAME:AST
DTSTART:20251102T050000
END:STANDARD
BEGIN:DAYLIGHT
TZOFFSETFROM:-0400
TZOFFSETTO:-0300
TZNAME:ADT
DTSTART:20260308T060000
END:DAYLIGHT
BEGIN:STANDARD
TZOFFSETFROM:-0300
TZOFFSETTO:-0400
TZNAME:AST
DTSTART:20261101T050000
END:STANDARD
END:VTIMEZONE
BEGIN:VEVENT
DTSTART;TZID=America/Halifax:20251006T114500
DTEND;TZID=America/Halifax:20251006T130000
DTSTAMP:20260421T111411
CREATED:20251001T181836Z
LAST-MODIFIED:20251001T181911Z
UID:10001078-1759751100-1759755600@269netwrk.com
SUMMARY:Southwest Michigan First Chamber - Monday Midday Mixer
DESCRIPTION:People do business with those they know\, like\, and trust. Relationships are the foundation of the best business partnerships\, and the Southwest Michigan First Chamber is here to help you build those connections. \nWe’re thrilled to announce a new opportunity to grow your business network while enjoying a delicious lunch—introducing our Monday Midday Mixer series sponsored by John Grace Restoration and Construction! \nThis lunchtime connect is specifically designed to help you expand your network and enhance your business development efforts with a unique round-robin format to ensure you meet new folks. \nEvent Details: \n\nDate: Monday\, October 6\nTime: 11:45 AM – 1:00 PM (sharp\, so you can get back to your workday)\nLocation: HopCat Kalamazoo\n\n\nBonus: Discounted meals for Chamber members and their teams!\n\nIf early mornings and evenings don’t fit your schedule\, join us every month for the Monday Midday Mixer. Grab lunch\, make meaningful connections\, and get back to your day inspired and motivated. \nRSVP now to secure your spot and join us for this exciting new initiative. \nInterested in amplifying your company’s message and visibility? Sponsor an individual Monday Midday Mixer or the entire series! Reach out to us at chamber@southwestmichiganfirst.com for more information.
URL:https://269netwrk.com/event/southwest-michigan-first-chamber-monday-midday-mixer-2/
LOCATION:HopCat Kalamazoo\, 300 East Water Street\, Kalamazoo\, MI\, 49007\, United States
ORGANIZER;CN="Southwest Michigan First Chamber":MAILTO:jboerman@southwestmichiganfirst.com
END:VEVENT
BEGIN:VEVENT
DTSTART;TZID=America/Halifax:20251007T083000
DTEND;TZID=America/Halifax:20251007T100000
DTSTAMP:20260421T111411
CREATED:20251001T202944Z
LAST-MODIFIED:20251001T202944Z
UID:10001079-1759825800-1759831200@269netwrk.com
SUMMARY:Vicksburg/Schoolcraft Business Community Townhall
DESCRIPTION:Join the Southwest Michigan First Chamber for the upcoming Vicksburg/Schoolcraft Business Community Townhall! \nThis is your chance to connect with local city and community leaders\, share your insights\, and explore opportunities that shape the future of the Vicksburg/Schoolcraft area. Together\, let’s spark collaboration and work toward meaningful progress for our community. \nBring your ideas\, your challenges\, and your neighbors—we’ll supply the refreshments and an open\, welcoming platform for discussion. \nWe look forward to seeing you there! \nAbout the Southwest Michigan First Chamber \nThe Southwest Michigan First Chamber is dedicated to fostering the connection\, development\, collaboration\, and growth of the small business community and its leaders throughout greater Kalamazoo County. The Chamber supports the mission of Southwest Michigan First not only in its support of the creation of well-paying jobs\, but also through the strengthening of our existing small business community. A strong small business presence is a proven key attractor for new businesses and a reason why families\, existing companies\, and their employees want to stay here. \nSpecial thanks to Sneller Snow & Grounds for sponsoring this series.
URL:https://269netwrk.com/event/vicksburg-schoolcraft-business-community-townhall/
LOCATION:Hills Development\, 108 South Main Street\, Vicksburg\, MI\, 49097\, United States
ORGANIZER;CN="Southwest Michigan First Chamber":MAILTO:jboerman@southwestmichiganfirst.com
END:VEVENT
BEGIN:VEVENT
DTSTART;TZID=America/Halifax:20251008T080000
DTEND;TZID=America/Halifax:20251008T213000
DTSTAMP:20260421T111411
CREATED:20251007T133454Z
LAST-MODIFIED:20251007T133454Z
UID:10001084-1759910400-1759959000@269netwrk.com
SUMMARY:1 Millions Cups
DESCRIPTION:1MC provides a supportive\, inclusive space for entrepreneurs and their communities to gather and connect\, where they can work through business challenges and identify opportunities. \nOur presenting companies will be EarthCraft Skillshare and Lieber Media. The meeting will be at the WMed Innovation Center (4717 Campus Drive\, Kalamazoo\, MI  49008). There is plenty of free parking in front of the building. Doors open at 8:00; program starts at 8:30. We hope to see you there. www.1millioncups.com/kalamazoo. \n-Your 1MC Organizers\nKalamazoo\, MI
URL:https://269netwrk.com/event/1-millions-cups-2/
LOCATION:WMed Innovation Center\, 4717 Campus Drive\, Kalamazoo\, MI\, 49008\, United States
ORGANIZER;CN="1 Million Cups":MAILTO:kalamazoo@1millioncups.com
END:VEVENT
BEGIN:VEVENT
DTSTART;TZID=America/Halifax:20251008T160000
DTEND;TZID=America/Halifax:20251008T180000
DTSTAMP:20260421T111411
CREATED:20251001T205230Z
LAST-MODIFIED:20251001T205230Z
UID:10001080-1759939200-1759946400@269netwrk.com
SUMMARY:October Chamber Connect | Loaves and Fishes
DESCRIPTION:Build Your Professional Network at March Chamber Connect!\nYour professional network is one of your most valuable assets as a business leader—and the Southwest Michigan First Chamber is here to help you expand and strengthen it. Whether you’re looking to build new connections\, foster collaborations\, or share insights with like-minded professionals\, our Chamber Connect events provide the perfect opportunity. \nPlease bring a non-perishable food item to donate to Loaves & Fishes. Suggested items include canned protein\, peanut butter\, pasta\, rice\, and low-sodium canned vegetables. No glass containers if possible. \nInterested in learning more about Chamber membership? Reach out to Kevin Crittenden at kcrittenden@southwestmichiganfirst.com. \nWe can’t wait to see you there!
URL:https://269netwrk.com/event/october-chamber-connect-loaves-and-fishes/
LOCATION:Kalamazoo Loaves & Fishes\, 901 Portage Street\, Kalamazoo\, MI\, 49001\, United States
ORGANIZER;CN="Southwest Michigan First Chamber":MAILTO:jboerman@southwestmichiganfirst.com
END:VEVENT
BEGIN:VEVENT
DTSTART;TZID=America/Halifax:20251008T160000
DTEND;TZID=America/Halifax:20251008T190000
DTSTAMP:20260421T111411
CREATED:20250911T133648Z
LAST-MODIFIED:20250911T133648Z
UID:10001060-1759939200-1759950000@269netwrk.com
SUMMARY:Barrels\, Bottles & Brews - Benton Harbor
DESCRIPTION:Our Agenda is simple:\n1 – Meet people and business owners without all the formality2 – Have a Beer (or other beverage)3 – REPEAT\nA casual networking group about getting connected in the community and supporting locally owned breweries\, tap houses\, and other establishments. Come enjoy the camaraderie and hang out or just enjoy good craft beer\, cocktail or glass of wine.\nRSVP on Facebook Requested – Out of respect to the businesses we visit we need to know how many people are planning to attend.\nSponsored by: Dan Crist – Centsible HVACFacebook: https://www.facebook.com/share/1F9GDQBzoSWebsite: https://centsiblemichigan.com
URL:https://269netwrk.com/event/barrels-bottles-brews-benton-harbor-2/
LOCATION:12 Corners Vineyards\, 1201 N Benton Center Rd\, Benton Harbor\, MI\, 49022\, United States
END:VEVENT
BEGIN:VEVENT
DTSTART;TZID=America/Halifax:20251009T084500
DTEND;TZID=America/Halifax:20251009T221500
DTSTAMP:20260421T111411
CREATED:20250828T173816Z
LAST-MODIFIED:20250828T173816Z
UID:10000786-1759999500-1760048100@269netwrk.com
SUMMARY:Rising Tides Kzoo
DESCRIPTION:The goal of our meetings is to build lasting friendships\, see how we can help each other\, and refer business to one another.
URL:https://269netwrk.com/event/rising-tides-kzoo/2025-10-09/
LOCATION:24208 Front Street Suite A\, 24208 Front Street Suite A\, Mattawan\, MI\, 49071\, United States
ORGANIZER;CN="Rising Tides Kzoo":MAILTO:dawn@stoneycreeksocialmedia.com
END:VEVENT
END:VCALENDAR