BEGIN:VCALENDAR
VERSION:2.0
PRODID:-//269 Netwrk - ECPv6.15.20//NONSGML v1.0//EN
CALSCALE:GREGORIAN
METHOD:PUBLISH
X-ORIGINAL-URL:https://269netwrk.com
X-WR-CALDESC:Events for 269 Netwrk
REFRESH-INTERVAL;VALUE=DURATION:PT1H
X-Robots-Tag:noindex
X-PUBLISHED-TTL:PT1H
BEGIN:VTIMEZONE
TZID:America/Halifax
BEGIN:DAYLIGHT
TZOFFSETFROM:-0400
TZOFFSETTO:-0300
TZNAME:ADT
DTSTART:20250309T060000
END:DAYLIGHT
BEGIN:STANDARD
TZOFFSETFROM:-0300
TZOFFSETTO:-0400
TZNAME:AST
DTSTART:20251102T050000
END:STANDARD
BEGIN:DAYLIGHT
TZOFFSETFROM:-0400
TZOFFSETTO:-0300
TZNAME:ADT
DTSTART:20260308T060000
END:DAYLIGHT
BEGIN:STANDARD
TZOFFSETFROM:-0300
TZOFFSETTO:-0400
TZNAME:AST
DTSTART:20261101T050000
END:STANDARD
BEGIN:DAYLIGHT
TZOFFSETFROM:-0400
TZOFFSETTO:-0300
TZNAME:ADT
DTSTART:20270314T060000
END:DAYLIGHT
BEGIN:STANDARD
TZOFFSETFROM:-0300
TZOFFSETTO:-0400
TZNAME:AST
DTSTART:20271107T050000
END:STANDARD
END:VTIMEZONE
BEGIN:VEVENT
DTSTART;TZID=America/Halifax:20260513T114500
DTEND;TZID=America/Halifax:20260513T130000
DTSTAMP:20260423T202139
CREATED:20260420T184929Z
LAST-MODIFIED:20260420T184929Z
UID:10002477-1778672700-1778677200@269netwrk.com
SUMMARY:KBN Lunch Bunch
DESCRIPTION:Low key atmosphere\, networking\, lunch\, and community connection. Join the KBN Lunch Brunch for relationship building. \n*Lunch not provided* \nMeets the 2nd Wednesday of each month\, time 11:45-1\, location Monelli’s Italian Grill \nContact name: Thomas Hatfield\, email thatfield@honorcu.com phone number 269-743-5745 \n 
URL:https://269netwrk.com/event/kbn-lunch-bunch/
LOCATION:Monelli’s Italian Grill\, 7141 S Westnedge Ave\, Portage\, MI\, 49002
ORGANIZER;CN="Kalamazoo Business Network (KBN)":MAILTO:thatfield@honorcu.com
END:VEVENT
END:VCALENDAR